BEGIN:VCALENDAR
VERSION:2.0
PRODID:-//Sabre//Sabre VObject 4.5.8//EN
CALSCALE:GREGORIAN
BEGIN:VEVENT
UID:sabre-vobject-573ed912-646d-4140-ba11-e3a6540944c4
DTSTAMP:20260424T200656Z
SUMMARY:Konventmesse in Konzelebration
DESCRIPTION:https://www2.bistum-augsburg.de/gottesdienste/konventmesse-in-k
 onzelebration_id1731791
DTSTART;TZID=Europe/Berlin:20260430T190000
DURATION:PT30M
LOCATION:Mariä Himmelfahrt\, Klosterstraße 4\, 89297 Roggenburg
END:VEVENT
END:VCALENDAR
