BEGIN:VCALENDAR
VERSION:2.0
PRODID:-//Sabre//Sabre VObject 4.5.8//EN
CALSCALE:GREGORIAN
BEGIN:VEVENT
UID:sabre-vobject-7eca97b6-945f-40b4-bcb1-c9c99d2e64ff
DTSTAMP:20260424T183333Z
SUMMARY:Maiandacht (musikal. gest. v. Billenhauser Dreigesang)
DESCRIPTION:https://www2.bistum-augsburg.de/gottesdienste/maiandacht-musika
 l-gest-v-billenhauser-dreigesang_id1731803
DTSTART;TZID=Europe/Berlin:20260503T140000
DURATION:PT30M
LOCATION:Mariä Himmelfahrt\, Klosterstraße 4\, 89297 Roggenburg
END:VEVENT
END:VCALENDAR
