BEGIN:VCALENDAR
VERSION:2.0
PRODID:-//Sabre//Sabre VObject 4.5.8//EN
CALSCALE:GREGORIAN
BEGIN:VEVENT
UID:sabre-vobject-e863f50e-e5c0-459a-a4ea-48cbe299b73c
DTSTAMP:20260424T182256Z
SUMMARY:HM
DESCRIPTION:https://www2.bistum-augsburg.de/gottesdienste/hm_id1731806
DTSTART;TZID=Europe/Berlin:20260508T190000
DURATION:PT30M
LOCATION:Mariä Himmelfahrt\, Klosterstraße 4\, 89297 Roggenburg
END:VEVENT
END:VCALENDAR
