BEGIN:VCALENDAR
VERSION:2.0
PRODID:-//Sabre//Sabre VObject 4.5.8//EN
CALSCALE:GREGORIAN
BEGIN:VEVENT
UID:sabre-vobject-af4b2a69-81c3-4e34-8929-fb43e825cb76
DTSTAMP:20260425T004540Z
SUMMARY:Jubiläumsgottesdienst - Festgottesdienst mit Weihbischof Florian W
 örner (Missa di San Giuseppe v. Johann Ernst Eberlin)\n(m. anschl. Begegn
 ung)
DESCRIPTION:https://www2.bistum-augsburg.de/gottesdienste/jubilaeumsgottesd
 ienst-festgottesdienst-mit-weihbischof-florian-woerner-missa-di-san-giusep
 pe-v-johann-ernst-eberlin-m-anschl-begegnung_id1731808
DTSTART;TZID=Europe/Berlin:20260510T100000
DURATION:PT30M
LOCATION:Mariä Himmelfahrt\, Klosterstraße 4\, 89297 Roggenburg
END:VEVENT
END:VCALENDAR
