BEGIN:VCALENDAR
VERSION:2.0
PRODID:-//Sabre//Sabre VObject 4.5.8//EN
CALSCALE:GREGORIAN
BEGIN:VEVENT
UID:sabre-vobject-29b38d01-fb8d-4906-a67a-2e296360cfee
DTSTAMP:20260424T192948Z
SUMMARY:Abendlob (Team C)
DESCRIPTION:https://www2.bistum-augsburg.de/gottesdienste/abendlob-team-c_i
 d1731809
DTSTART;TZID=Europe/Berlin:20260506T190000
DURATION:PT30M
LOCATION:Mariä Himmelfahrt
END:VEVENT
END:VCALENDAR
