BEGIN:VCALENDAR
VERSION:2.0
PRODID:-//Sabre//Sabre VObject 4.5.8//EN
CALSCALE:GREGORIAN
BEGIN:VEVENT
UID:sabre-vobject-bcc611b2-1616-47ea-aba0-71089de75515
DTSTAMP:20260424T185741Z
SUMMARY:Vorabendmesse f.d. Pfarrgemeinden
DESCRIPTION:https://www2.bistum-augsburg.de/gottesdienste/vorabendmesse-f-d
 -pfarrgemeinden_id1731813
DTSTART;TZID=Europe/Berlin:20260425T190000
DURATION:PT30M
LOCATION:St. Johannes Baptist
END:VEVENT
END:VCALENDAR
