BEGIN:VCALENDAR
VERSION:2.0
PRODID:-//Sabre//Sabre VObject 4.5.8//EN
CALSCALE:GREGORIAN
BEGIN:VEVENT
UID:sabre-vobject-cf8d7485-646e-4978-b249-4b0750c801f4
DTSTAMP:20260424T200657Z
SUMMARY:Fußwallfahrt nach Matzenhofen
DESCRIPTION:https://www2.bistum-augsburg.de/gottesdienste/fusswallfahrt-nac
 h-matzenhofen_id1731835
DTSTART;TZID=Europe/Berlin:20260523T063000
DURATION:PT30M
LOCATION:Mariä Himmelfahrt\, Klosterstraße 4\, 89297 Roggenburg
END:VEVENT
END:VCALENDAR
