BEGIN:VCALENDAR
VERSION:2.0
PRODID:-//Sabre//Sabre VObject 4.5.8//EN
CALSCALE:GREGORIAN
BEGIN:VEVENT
UID:sabre-vobject-baf5e564-be1b-42ab-b27a-e7eafbf0dcae
DTSTAMP:20260424T212528Z
SUMMARY:Maiandacht (musik. gest. v.d. Veeh-Harfen-Gruppe)
DESCRIPTION:https://www2.bistum-augsburg.de/gottesdienste/maiandacht-musik-
 gest-v-d-veeh-harfen-gruppe_id1731849
DTSTART;TZID=Europe/Berlin:20260503T190000
DURATION:PT30M
LOCATION:St. Andreas
END:VEVENT
END:VCALENDAR
