BEGIN:VCALENDAR
VERSION:2.0
PRODID:-//Sabre//Sabre VObject 4.5.8//EN
CALSCALE:GREGORIAN
BEGIN:VEVENT
UID:sabre-vobject-353d4dbf-bcb6-42d7-a293-0637a10b1c12
DTSTAMP:20260424T172148Z
SUMMARY:Hl. Messe für die Pfarrgemeinde
DESCRIPTION:https://www2.bistum-augsburg.de/gottesdienste/hl-messe-fuer-die
 -pfarrgemeinde_id1731856
DTSTART;TZID=Europe/Berlin:20260502T191500
DURATION:PT30M
LOCATION:St. Martin
END:VEVENT
END:VCALENDAR
