BEGIN:VCALENDAR
VERSION:2.0
PRODID:-//Sabre//Sabre VObject 4.5.8//EN
CALSCALE:GREGORIAN
BEGIN:VEVENT
UID:sabre-vobject-1d1e834c-aeb9-49d2-ba59-e0742295515d
DTSTAMP:20260424T050459Z
SUMMARY:Heilige Messe für Eleonore u. Albert Hitzler m. Fam.
DESCRIPTION:https://www2.bistum-augsburg.de/gottesdienste/heilige-messe-fue
 r-eleonore-u-albert-hitzler-m-fam_id1731875
DTSTART;TZID=Europe/Berlin:20260517T090000
DURATION:PT30M
LOCATION:St. Martin\, Herzog-Georg-Straße 48\, 89415 Lauingen
END:VEVENT
END:VCALENDAR
