BEGIN:VCALENDAR
VERSION:2.0
PRODID:-//Sabre//Sabre VObject 4.5.8//EN
CALSCALE:GREGORIAN
BEGIN:VEVENT
UID:sabre-vobject-7fe10260-3a5e-4d7b-892a-55deb93d0dbb
DTSTAMP:20260424T220559Z
SUMMARY:Heilige Messe
DESCRIPTION:https://www2.bistum-augsburg.de/gottesdienste/heilige-messe_id1
 731880
DTSTART;TZID=Europe/Berlin:20260519T090000
DURATION:PT30M
LOCATION:St. Vitus
END:VEVENT
END:VCALENDAR
