BEGIN:VCALENDAR
VERSION:2.0
PRODID:-//Sabre//Sabre VObject 4.5.8//EN
CALSCALE:GREGORIAN
BEGIN:VEVENT
UID:sabre-vobject-b928e941-89e2-4779-ab93-9815a67fccfa
DTSTAMP:20260425T134935Z
SUMMARY:Pfarrgottesdienst
DESCRIPTION:https://www2.bistum-augsburg.de/gottesdienste/pfarrgottesdienst
 _id1731898
DTSTART;TZID=Europe/Berlin:20260503T080000
DURATION:PT30M
LOCATION:St. Pankratius
END:VEVENT
END:VCALENDAR
