BEGIN:VCALENDAR
VERSION:2.0
PRODID:-//Sabre//Sabre VObject 4.5.8//EN
CALSCALE:GREGORIAN
BEGIN:VEVENT
UID:sabre-vobject-6642c906-3e67-4f84-9a9c-27fc76f992e1
DTSTAMP:20260425T005726Z
SUMMARY:Lichtspur mit anschl. Begegnung
DESCRIPTION:https://www2.bistum-augsburg.de/gottesdienste/lichtspur-mit-ans
 chl-begegnung_id1731911
DTSTART;TZID=Europe/Berlin:20260508T190000
DURATION:PT30M
LOCATION:St. Pankratius
END:VEVENT
END:VCALENDAR
