BEGIN:VCALENDAR
VERSION:2.0
PRODID:-//Sabre//Sabre VObject 4.5.8//EN
CALSCALE:GREGORIAN
BEGIN:VEVENT
UID:sabre-vobject-7578a2f3-ccf1-419d-bc28-f1107785b81d
DTSTAMP:20260424T045425Z
SUMMARY:Heiliges Amt
DESCRIPTION:https://www2.bistum-augsburg.de/gottesdienste/heiliges-amt_id17
 31923
DTSTART;TZID=Europe/Berlin:20260525T100000
DURATION:PT30M
LOCATION:St. Martin\, Herzog-Georg-Straße 48\, 89415 Lauingen
END:VEVENT
END:VCALENDAR
