BEGIN:VCALENDAR
VERSION:2.0
PRODID:-//Sabre//Sabre VObject 4.5.8//EN
CALSCALE:GREGORIAN
BEGIN:VEVENT
UID:sabre-vobject-056cc7f8-2145-40c2-8917-c4b0f30aba1a
DTSTAMP:20260423T211347Z
SUMMARY:Taizé - Gebet in der Marienkapelle
DESCRIPTION:https://www2.bistum-augsburg.de/gottesdienste/taize-gebet-in-de
 r-marienkapelle_id1731939
DTSTART;TZID=Europe/Berlin:20260429T200000
DURATION:PT30M
LOCATION:St. Ulrich
END:VEVENT
END:VCALENDAR
