BEGIN:VCALENDAR
VERSION:2.0
PRODID:-//Sabre//Sabre VObject 4.5.8//EN
CALSCALE:GREGORIAN
BEGIN:VEVENT
UID:sabre-vobject-2117b8b6-126e-46dc-ab82-3075ae0a637d
DTSTAMP:20260424T014446Z
SUMMARY:Heilige Messe für Fam. Eggenmüller u. Roth
DESCRIPTION:https://www2.bistum-augsburg.de/gottesdienste/heilige-messe-fue
 r-fam-eggenmueller-u-roth_id1731946
DTSTART;TZID=Europe/Berlin:20260531T090000
DURATION:PT30M
LOCATION:St. Martin\, Herzog-Georg-Straße 48\, 89415 Lauingen
END:VEVENT
END:VCALENDAR
