BEGIN:VCALENDAR
VERSION:2.0
PRODID:-//Sabre//Sabre VObject 4.5.8//EN
CALSCALE:GREGORIAN
BEGIN:VEVENT
UID:sabre-vobject-dfc68b8a-88b3-4171-b101-a152608b7e5e
DTSTAMP:20260424T084000Z
SUMMARY:Rosenkranz für die Verstorbenen  Johanna Sirch und Maximilian Geor
 g Geyer
DESCRIPTION:https://www2.bistum-augsburg.de/gottesdienste/rosenkranz-fuer-d
 ie-verstorbenen-johanna-sirch-und-maximilian-georg-geyer_id1731958
DTSTART;TZID=Europe/Berlin:20260425T173000
DURATION:PT30M
LOCATION:St. Stephan\, Kirchplatz 1\, 87719 Mindelheim
END:VEVENT
END:VCALENDAR
