BEGIN:VCALENDAR
VERSION:2.0
PRODID:-//Sabre//Sabre VObject 4.5.8//EN
CALSCALE:GREGORIAN
BEGIN:VEVENT
UID:sabre-vobject-b3ae4e2e-a179-4a74-8860-43b2398b1579
DTSTAMP:20260425T021456Z
SUMMARY:Erstkommunion\nHeilige Messe für die Pfarrgemeinde
DESCRIPTION:https://www2.bistum-augsburg.de/gottesdienste/erstkommunion-hei
 lige-messe-fuer-die-pfarrgemeinde_id1731961
DTSTART;TZID=Europe/Berlin:20260517T103000
DURATION:PT30M
LOCATION:St. Adelgundis
END:VEVENT
END:VCALENDAR
