BEGIN:VCALENDAR
VERSION:2.0
PRODID:-//Sabre//Sabre VObject 4.5.8//EN
CALSCALE:GREGORIAN
BEGIN:VEVENT
UID:sabre-vobject-e0284b2e-7eb3-4459-b286-a9112f1cba95
DTSTAMP:20260424T070720Z
SUMMARY:Hl. Messe\, Amt für die Pfarrgemeinde
DESCRIPTION:https://www2.bistum-augsburg.de/gottesdienste/hl-messe-amt-fuer
 -die-pfarrgemeinde_id1731965
DTSTART;TZID=Europe/Berlin:20260426T090000
DURATION:PT30M
LOCATION:St. Stephan\, Kirchplatz 1\, 87719 Mindelheim
END:VEVENT
END:VCALENDAR
