BEGIN:VCALENDAR
VERSION:2.0
PRODID:-//Sabre//Sabre VObject 4.5.8//EN
CALSCALE:GREGORIAN
BEGIN:VEVENT
UID:sabre-vobject-818a9499-1d54-4b84-bd26-5ad71f40a764
DTSTAMP:20260424T185620Z
SUMMARY:Heilige Messe mit dem Gospelchor
DESCRIPTION:https://www2.bistum-augsburg.de/gottesdienste/heilige-messe-mit
 -dem-gospelchor_id1731969
DTSTART;TZID=Europe/Berlin:20260426T190000
DURATION:PT30M
LOCATION:St. Stephan\, Kirchplatz 1\, 87719 Mindelheim
END:VEVENT
END:VCALENDAR
