BEGIN:VCALENDAR
VERSION:2.0
PRODID:-//Sabre//Sabre VObject 4.5.8//EN
CALSCALE:GREGORIAN
BEGIN:VEVENT
UID:sabre-vobject-f4522d66-24c6-4c6e-a190-7a952c2699b1
DTSTAMP:20260424T185458Z
SUMMARY:Heilige Messe zum Patrozinium
DESCRIPTION:https://www2.bistum-augsburg.de/gottesdienste/heilige-messe-zum
 -patrozinium_id1731972
DTSTART;TZID=Europe/Berlin:20260427T100000
DURATION:PT30M
LOCATION:St. Stephan\, Kirchplatz 1\, 87719 Mindelheim
END:VEVENT
END:VCALENDAR
