BEGIN:VCALENDAR
VERSION:2.0
PRODID:-//Sabre//Sabre VObject 4.5.8//EN
CALSCALE:GREGORIAN
BEGIN:VEVENT
UID:sabre-vobject-cb31aad5-6381-4461-924a-a122745cf1d2
DTSTAMP:20260425T135044Z
SUMMARY:Eucharistische Anbetung
DESCRIPTION:https://www2.bistum-augsburg.de/gottesdienste/eucharistische-an
 betung_id1731975
DTSTART;TZID=Europe/Berlin:20260429T084500
DURATION:PT30M
LOCATION:St. Martin
END:VEVENT
END:VCALENDAR
