BEGIN:VCALENDAR
VERSION:2.0
PRODID:-//Sabre//Sabre VObject 4.5.8//EN
CALSCALE:GREGORIAN
BEGIN:VEVENT
UID:sabre-vobject-a71ce3db-3a9a-48cd-8e49-8381246fe982
DTSTAMP:20260423T092407Z
SUMMARY:Rosenkranz zu Ehren des Unbefleckten Herzens Mariä
DESCRIPTION:https://www2.bistum-augsburg.de/gottesdienste/rosenkranz-zu-ehr
 en-des-unbefleckten-herzens-mariae_id1731985
DTSTART;TZID=Europe/Berlin:20260501T170000
DURATION:PT30M
LOCATION:Mariä Himmelfahrt
END:VEVENT
END:VCALENDAR
