BEGIN:VCALENDAR
VERSION:2.0
PRODID:-//Sabre//Sabre VObject 4.5.8//EN
CALSCALE:GREGORIAN
BEGIN:VEVENT
UID:sabre-vobject-b27c66c1-b77b-4b8b-8505-60d90b899244
DTSTAMP:20260424T033052Z
SUMMARY:keine Hl. Messe!!!
DESCRIPTION:https://www2.bistum-augsburg.de/gottesdienste/keine-hl-messe_id
 1731987
DTSTART;TZID=Europe/Berlin:20260430T000000
DURATION:PT30M
LOCATION:St. Johannes Baptist
END:VEVENT
END:VCALENDAR
