BEGIN:VCALENDAR
VERSION:2.0
PRODID:-//Sabre//Sabre VObject 4.5.8//EN
CALSCALE:GREGORIAN
BEGIN:VEVENT
UID:sabre-vobject-e6092f78-7a15-482f-accb-37a9077526a2
DTSTAMP:20260425T192346Z
SUMMARY:Taufe:
DESCRIPTION:https://www2.bistum-augsburg.de/gottesdienste/taufe_id1731991
DTSTART;TZID=Europe/Berlin:20260501T140000
DURATION:PT30M
LOCATION:St. Nikolaus
END:VEVENT
END:VCALENDAR
