BEGIN:VCALENDAR
VERSION:2.0
PRODID:-//Sabre//Sabre VObject 4.5.8//EN
CALSCALE:GREGORIAN
BEGIN:VEVENT
UID:sabre-vobject-01abed8c-c9b5-485e-9248-81990c69de37
DTSTAMP:20260425T181836Z
SUMMARY:Friedensgebet
DESCRIPTION:https://www2.bistum-augsburg.de/gottesdienste/friedensgebet_id1
 732016
DTSTART;TZID=Europe/Berlin:20260504T191500
DURATION:PT30M
LOCATION:St. Alban
END:VEVENT
END:VCALENDAR
