BEGIN:VCALENDAR
VERSION:2.0
PRODID:-//Sabre//Sabre VObject 4.5.8//EN
CALSCALE:GREGORIAN
BEGIN:VEVENT
UID:sabre-vobject-eaa12b03-2911-4113-8c25-b63b85cffef7
DTSTAMP:20260424T185504Z
SUMMARY:Maiandacht an der Marienstatue im Pfarrgarten\nanschl. Kaffee und K
 uchen\n
DESCRIPTION:https://www2.bistum-augsburg.de/gottesdienste/maiandacht-an-der
 -marienstatue-im-pfarrgarten-anschl-kaffee-und-kuchen_id1732018
DTSTART;TZID=Europe/Berlin:20260525T143000
DURATION:PT30M
LOCATION:St. Nikolaus
END:VEVENT
END:VCALENDAR
