BEGIN:VCALENDAR
VERSION:2.0
PRODID:-//Sabre//Sabre VObject 4.5.8//EN
CALSCALE:GREGORIAN
BEGIN:VEVENT
UID:sabre-vobject-4573b9dc-aea3-4abb-a4a4-432731264c91
DTSTAMP:20260424T000131Z
SUMMARY:Rosenkranz
DESCRIPTION:https://www2.bistum-augsburg.de/gottesdienste/rosenkranz_id1732
 022
DTSTART;TZID=Europe/Berlin:20260521T083000
DURATION:PT30M
LOCATION:St. Adelgundis
END:VEVENT
END:VCALENDAR
