BEGIN:VCALENDAR
VERSION:2.0
PRODID:-//Sabre//Sabre VObject 4.5.8//EN
CALSCALE:GREGORIAN
BEGIN:VEVENT
UID:sabre-vobject-47263aa6-7522-4def-a407-a4fd207a51b4
DTSTAMP:20260424T064305Z
SUMMARY:Heilige Messe für die Pfarrgemeinde
DESCRIPTION:https://www2.bistum-augsburg.de/gottesdienste/heilige-messe-fue
 r-die-pfarrgemeinde_id1732032
DTSTART;TZID=Europe/Berlin:20260517T090000
DURATION:PT30M
LOCATION:St. Martinus
END:VEVENT
END:VCALENDAR
