BEGIN:VCALENDAR
VERSION:2.0
PRODID:-//Sabre//Sabre VObject 4.5.8//EN
CALSCALE:GREGORIAN
BEGIN:VEVENT
UID:sabre-vobject-bfc2106b-6e41-4230-963c-c9832c5505c4
DTSTAMP:20260423T211326Z
SUMMARY:Pilgeramt mit feierlicher Müttersegnung für die lebenden u. verst
 orbenen Wohltäter der Wallfahrt\, musik. Gest.: Unterallgäuer Bäuerinne
 nchor
DESCRIPTION:https://www2.bistum-augsburg.de/gottesdienste/pilgeramt-mit-fei
 erlicher-muettersegnung-fuer-die-lebenden-u-verstorbenen-wohltaeter-der-wa
 llfahrt-musik-gest-unterallgaeuer-baeuerinnenchor_id1732057
DTSTART;TZID=Europe/Berlin:20260510T101500
DURATION:PT30M
LOCATION:Wallfahrtsdirektion Mariä Schmerzen
END:VEVENT
END:VCALENDAR
