BEGIN:VCALENDAR
VERSION:2.0
PRODID:-//Sabre//Sabre VObject 4.5.8//EN
CALSCALE:GREGORIAN
BEGIN:VEVENT
UID:sabre-vobject-22c6b728-b2b1-459f-9511-63d5423f6b30
DTSTAMP:20260424T185543Z
SUMMARY:Rosenkranz zu Ehren des Unbefleckten Herzens Mariä
DESCRIPTION:https://www2.bistum-augsburg.de/gottesdienste/rosenkranz-zu-ehr
 en-des-unbefleckten-herzens-mariae_id1732075
DTSTART;TZID=Europe/Berlin:20260503T092500
DURATION:PT30M
LOCATION:St. Martin
END:VEVENT
END:VCALENDAR
