BEGIN:VCALENDAR
VERSION:2.0
PRODID:-//Sabre//Sabre VObject 4.5.8//EN
CALSCALE:GREGORIAN
BEGIN:VEVENT
UID:sabre-vobject-38d5f397-724f-40bc-9a70-1f4a28e2ecb9
DTSTAMP:20260424T013533Z
SUMMARY:Hl. Messopfer\; Aussendung der Ettal-Fußwallfahrer
DESCRIPTION:https://www2.bistum-augsburg.de/gottesdienste/hl-messopfer-auss
 endung-der-ettal-fusswallfahrer_id1732124
DTSTART;TZID=Europe/Berlin:20260508T060000
DURATION:PT30M
LOCATION:Wallfahrtsdirektion Mariä Schmerzen
END:VEVENT
END:VCALENDAR
