BEGIN:VCALENDAR
VERSION:2.0
PRODID:-//Sabre//Sabre VObject 4.5.8//EN
CALSCALE:GREGORIAN
BEGIN:VEVENT
UID:sabre-vobject-5f778ff6-89ad-4877-a496-0a7a0fcf5942
DTSTAMP:20260423T142530Z
SUMMARY:Hl. Messe mit Erstkommunion
DESCRIPTION:https://www2.bistum-augsburg.de/gottesdienste/hl-messe-mit-erst
 kommunion_id1732130
DTSTART;TZID=Europe/Berlin:20260426T110000
DURATION:PT30M
LOCATION:St. Agatha
END:VEVENT
END:VCALENDAR
