BEGIN:VCALENDAR
VERSION:2.0
PRODID:-//Sabre//Sabre VObject 4.5.8//EN
CALSCALE:GREGORIAN
BEGIN:VEVENT
UID:sabre-vobject-4d9c9c54-c4e8-4cb4-a6aa-4d82d94217f8
DTSTAMP:20260424T202950Z
SUMMARY:Vortrag "Eine-Welt-Engagement in Zeiten globaler Veränderungen".\n
 Ref.: Dr. Alexander Fonari\, Vorstand im Eine welt Netzwerk Bayern e.V.\nV
 eranstalter: Eine-Welt-Kreis Mindelheim e.V.
DESCRIPTION:https://www2.bistum-augsburg.de/gottesdienste/vortrag-eine-welt
 -engagement-in-zeiten-globaler-veraenderungen-ref-dr-alexander-fonari-vors
 tand-im-eine-welt-netzwerk-bayern-e-v-veranstalter-eine-welt-kreis-mindelh
 eim-e-v_id1732137
DTSTART;TZID=Europe/Berlin:20260429T193000
DURATION:PT30M
LOCATION:St. Stephan\, Kirchplatz 1\, 87719 Mindelheim
END:VEVENT
END:VCALENDAR
