BEGIN:VCALENDAR
VERSION:2.0
PRODID:-//Sabre//Sabre VObject 4.5.8//EN
CALSCALE:GREGORIAN
BEGIN:VEVENT
UID:sabre-vobject-09d1746e-5962-46dd-acb3-f3de1113f298
DTSTAMP:20260424T111453Z
SUMMARY:Rosenkranz um Priester- und Ordensberufungen
DESCRIPTION:https://www2.bistum-augsburg.de/gottesdienste/rosenkranz-um-pri
 ester-und-ordensberufungen_id1732166
DTSTART;TZID=Europe/Berlin:20260430T083000
DURATION:PT30M
LOCATION:St. Ulrich
END:VEVENT
END:VCALENDAR
