BEGIN:VCALENDAR
VERSION:2.0
PRODID:-//Sabre//Sabre VObject 4.5.8//EN
CALSCALE:GREGORIAN
BEGIN:VEVENT
UID:sabre-vobject-7bbdc3e0-a1c1-4ca7-acbf-89bcc51f69dc
DTSTAMP:20260423T110712Z
SUMMARY:Requiem für Frau Maria Wildegger
DESCRIPTION:https://www2.bistum-augsburg.de/gottesdienste/requiem-fuer-frau
 -maria-wildegger_id1732172
DTSTART;TZID=Europe/Berlin:20260428T090000
DURATION:PT30M
LOCATION:Basilika minor St. Lorenz\, Hildegardpl.\, 87439 Kempten (Allgäu)
END:VEVENT
END:VCALENDAR
