BEGIN:VCALENDAR
VERSION:2.0
PRODID:-//Sabre//Sabre VObject 4.5.8//EN
CALSCALE:GREGORIAN
BEGIN:VEVENT
UID:sabre-vobject-9ce37c80-f3e4-46aa-ae90-909d45317a5e
DTSTAMP:20260425T231939Z
SUMMARY:Wortgottesdienst
DESCRIPTION:https://www2.bistum-augsburg.de/gottesdienste/wortgottesdienst_
 id1732177
DTSTART;TZID=Europe/Berlin:20260510T100000
DURATION:PT30M
LOCATION:Basilika minor St. Lorenz\, Hildegardpl.\, 87439 Kempten (Allgäu)
END:VEVENT
END:VCALENDAR
