BEGIN:VCALENDAR
VERSION:2.0
PRODID:-//Sabre//Sabre VObject 4.5.8//EN
CALSCALE:GREGORIAN
BEGIN:VEVENT
UID:sabre-vobject-ce3963b5-a53a-4f4e-a231-1825a7520176
DTSTAMP:20260423T110642Z
SUMMARY:Rosenkranz in der Krypta der Basilika
DESCRIPTION:https://www2.bistum-augsburg.de/gottesdienste/rosenkranz-in-der
 -krypta-der-basilika_id1732182
DTSTART;TZID=Europe/Berlin:20260429T170000
DURATION:PT30M
LOCATION:Basilika minor St. Lorenz\, Hildegardpl.\, 87439 Kempten (Allgäu)
END:VEVENT
END:VCALENDAR
