BEGIN:VCALENDAR
VERSION:2.0
PRODID:-//Sabre//Sabre VObject 4.5.8//EN
CALSCALE:GREGORIAN
BEGIN:VEVENT
UID:sabre-vobject-bd916e9d-51d4-4ff7-a8a0-a66832b62ef3
DTSTAMP:20260423T110757Z
SUMMARY:stille eucharistische Anbetung (-17:45)
DESCRIPTION:https://www2.bistum-augsburg.de/gottesdienste/stille-eucharisti
 sche-anbetung-17-45_id1732186
DTSTART;TZID=Europe/Berlin:20260501T170000
DURATION:PT30M
LOCATION:St. Agatha
END:VEVENT
END:VCALENDAR
