BEGIN:VCALENDAR
VERSION:2.0
PRODID:-//Sabre//Sabre VObject 4.5.8//EN
CALSCALE:GREGORIAN
BEGIN:VEVENT
UID:sabre-vobject-23f623a5-7dbc-4f26-8ffe-2cda4e157497
DTSTAMP:20260423T073957Z
SUMMARY:Rosenkranz in italienischer Sprache
DESCRIPTION:https://www2.bistum-augsburg.de/gottesdienste/rosenkranz-in-ita
 lienischer-sprache_id1732192
DTSTART;TZID=Europe/Berlin:20260501T170000
DURATION:PT30M
LOCATION:Basilika minor St. Lorenz\, Hildegardpl.\, 87439 Kempten (Allgäu)
END:VEVENT
END:VCALENDAR
