BEGIN:VCALENDAR
VERSION:2.0
PRODID:-//Sabre//Sabre VObject 4.5.8//EN
CALSCALE:GREGORIAN
BEGIN:VEVENT
UID:sabre-vobject-f51f097c-4580-4a3b-aee5-9f589fbec0fc
DTSTAMP:20260423T074115Z
SUMMARY:Rosenkranz
DESCRIPTION:https://www2.bistum-augsburg.de/gottesdienste/rosenkranz_id1732
 204
DTSTART;TZID=Europe/Berlin:20260502T175000
DURATION:PT30M
LOCATION:Basilika minor St. Lorenz\, Hildegardpl.\, 87439 Kempten (Allgäu)
END:VEVENT
END:VCALENDAR
