BEGIN:VCALENDAR
VERSION:2.0
PRODID:-//Sabre//Sabre VObject 4.5.8//EN
CALSCALE:GREGORIAN
BEGIN:VEVENT
UID:sabre-vobject-8aea58fe-391f-4a18-9914-5cfc74a09408
DTSTAMP:20260423T073957Z
SUMMARY:Vorabendmesse zum Sonntag
DESCRIPTION:https://www2.bistum-augsburg.de/gottesdienste/vorabendmesse-zum
 -sonntag_id1732205
DTSTART;TZID=Europe/Berlin:20260502T183000
DURATION:PT30M
LOCATION:Basilika minor St. Lorenz\, Hildegardpl.\, 87439 Kempten (Allgäu)
END:VEVENT
END:VCALENDAR
