BEGIN:VCALENDAR
VERSION:2.0
PRODID:-//Sabre//Sabre VObject 4.5.8//EN
CALSCALE:GREGORIAN
BEGIN:VEVENT
UID:sabre-vobject-058d7278-a553-474a-9da0-478236da19b3
DTSTAMP:20260424T223154Z
SUMMARY:Hl. Messe
DESCRIPTION:https://www2.bistum-augsburg.de/gottesdienste/hl-messe_id173221
 5
DTSTART;TZID=Europe/Berlin:20260505T090000
DURATION:PT30M
LOCATION:Basilika minor St. Lorenz\, Hildegardpl.\, 87439 Kempten (Allgäu)
END:VEVENT
END:VCALENDAR
