BEGIN:VCALENDAR
VERSION:2.0
PRODID:-//Sabre//Sabre VObject 4.5.8//EN
CALSCALE:GREGORIAN
BEGIN:VEVENT
UID:sabre-vobject-9d6993a7-cb22-4ff2-9acc-8c0bc6a2069b
DTSTAMP:20260423T074243Z
SUMMARY:Requiem für Frau Irmgard Lux
DESCRIPTION:https://www2.bistum-augsburg.de/gottesdienste/requiem-fuer-frau
 -irmgard-lux_id1732221
DTSTART;TZID=Europe/Berlin:20260430T120000
DURATION:PT30M
LOCATION:Basilika minor St. Lorenz\, Hildegardpl.\, 87439 Kempten (Allgäu)
END:VEVENT
END:VCALENDAR
