BEGIN:VCALENDAR
VERSION:2.0
PRODID:-//Sabre//Sabre VObject 4.5.8//EN
CALSCALE:GREGORIAN
BEGIN:VEVENT
UID:sabre-vobject-3786eda3-f75d-48bf-8884-79f3ad037ac1
DTSTAMP:20260423T124937Z
SUMMARY:Rosenkranz um gedeihliches Wetter
DESCRIPTION:https://www2.bistum-augsburg.de/gottesdienste/rosenkranz-um-ged
 eihliches-wetter_id1732231
DTSTART;TZID=Europe/Berlin:20260427T170000
DURATION:PT30M
LOCATION:Mariä Himmelfahrt
END:VEVENT
END:VCALENDAR
