BEGIN:VCALENDAR
VERSION:2.0
PRODID:-//Sabre//Sabre VObject 4.5.8//EN
CALSCALE:GREGORIAN
BEGIN:VEVENT
UID:sabre-vobject-9e001048-3c6f-4558-9579-fe5f53d91804
DTSTAMP:20260423T110643Z
SUMMARY:Hl. Messe
DESCRIPTION:https://www2.bistum-augsburg.de/gottesdienste/hl-messe_id173223
 2
DTSTART;TZID=Europe/Berlin:20260427T121500
DURATION:PT30M
LOCATION:Basilika minor St. Lorenz\, Hildegardpl.\, 87439 Kempten (Allgäu)
END:VEVENT
END:VCALENDAR
