BEGIN:VCALENDAR
VERSION:2.0
PRODID:-//Sabre//Sabre VObject 4.5.8//EN
CALSCALE:GREGORIAN
BEGIN:VEVENT
UID:sabre-vobject-72b7dae1-10be-4e35-b5f7-ae43f2df8327
DTSTAMP:20260423T074024Z
SUMMARY:Rosenkranz in italienischer Sprache
DESCRIPTION:https://www2.bistum-augsburg.de/gottesdienste/rosenkranz-in-ita
 lienischer-sprache_id1732236
DTSTART;TZID=Europe/Berlin:20260506T170000
DURATION:PT30M
LOCATION:Basilika minor St. Lorenz\, Hildegardpl.\, 87439 Kempten (Allgäu)
END:VEVENT
END:VCALENDAR
