BEGIN:VCALENDAR
VERSION:2.0
PRODID:-//Sabre//Sabre VObject 4.5.8//EN
CALSCALE:GREGORIAN
BEGIN:VEVENT
UID:sabre-vobject-45c3f1e1-0d5e-476d-b2d4-af8bcc48c2d5
DTSTAMP:20260423T074105Z
SUMMARY:Rosenkranz in italienischer Sprache
DESCRIPTION:https://www2.bistum-augsburg.de/gottesdienste/rosenkranz-in-ita
 lienischer-sprache_id1732241
DTSTART;TZID=Europe/Berlin:20260507T170000
DURATION:PT30M
LOCATION:Basilika minor St. Lorenz\, Hildegardpl.\, 87439 Kempten (Allgäu)
END:VEVENT
END:VCALENDAR
