BEGIN:VCALENDAR
VERSION:2.0
PRODID:-//Sabre//Sabre VObject 4.5.8//EN
CALSCALE:GREGORIAN
BEGIN:VEVENT
UID:sabre-vobject-69c80358-204d-44b1-84dc-d240552f3e0a
DTSTAMP:20260424T162928Z
SUMMARY:Maiandacht musikalisch gestaltet von der Gesangsgruppe der Unterill
 ertaler
DESCRIPTION:https://www2.bistum-augsburg.de/gottesdienste/maiandacht-musika
 lisch-gestaltet-von-der-gesangsgruppe-der-unterillertaler_id1732242
DTSTART;TZID=Europe/Berlin:20260507T193000
DURATION:PT30M
LOCATION:Basilika minor St. Lorenz\, Hildegardpl.\, 87439 Kempten (Allgäu)
END:VEVENT
END:VCALENDAR
