BEGIN:VCALENDAR
VERSION:2.0
PRODID:-//Sabre//Sabre VObject 4.5.8//EN
CALSCALE:GREGORIAN
BEGIN:VEVENT
UID:sabre-vobject-7431940b-0945-4274-9cf6-13f8635dcce3
DTSTAMP:20260424T172008Z
SUMMARY:Patrozinium Patrona Bavarie
DESCRIPTION:https://www2.bistum-augsburg.de/gottesdienste/patrozinium-patro
 na-bavarie_id1732258
DTSTART;TZID=Europe/Berlin:20260501T100000
DURATION:PT30M
LOCATION:St. Sebastian
END:VEVENT
END:VCALENDAR
